BEGIN:VCALENDAR
VERSION:2.0
METHOD:PUBLISH
CALSCALE:GREGORIAN
PRODID:-//YourMembership.com//NONSGML v1.0//EN
BEGIN:VEVENT
DTSTART;TZID=UTC:20080505T235900
DTEND;TZID=UTC:20081231T235900
DTSTAMP;TZID=UTC:20081212T070946
SUMMARY:Job Fairs
DESCRIPTION:DATE/TIME: 5/5/2008 3:59:00 PM GMT -8:00\n\nWHERE: Various\nVarious\nVarious\, California\nUnited States\n\nJoin Monster Job Fairs for these world class events! Meet face to face with the most talented and highly motivated career candidates\, and get the tools to build your brand at a Monster recruiting event. \nDepend on Monster Job Fairs to save you time\, money and effort by delivering hundreds of qualified candidates in a single day! \nAnaheim Military Career Fair Crowne Plaza Anaheim 12021 Harbor Blvd \, Garden Grove \, CA 92840 Tuesday\, May 6\, 2008 Monday\, September 29\, 2008 Anaheim Job Fair Crowne Plaza Anaheim 12021 Harbor Blvd \, Garden Grove \, CA 92840 Monday\, August 4\, 2008 Friday\, November 14\, 2008 Concord Military Career Fair Hilton Concord Hotel 1970 Diamond Blvd \, Concord \, CA 94520 Friday\, October 3\, 2008 Costa Mesa Job Fair Hilton Orange County/Costa Mesa 3050 Bristol Street \, Costa Mesa \, CA 92626 Monday\, June 23\, 2008 Wednesday\, September 3\, 2008 Fresno Job Fair Radisson Hotel &amp\; Conference Center 2233 Ventura St \, Fresno \, CA 93721 Tuesday\, June 17\, 2008 Wednesday\, September 17\, 2008 Irvine Job Fair Irvine Atrium Hotel 18700 MacArthur Blvd \, Irvine \, CA 92612 Monday\, May 5\, 2008 Monday\, October 27\, 2008 Long Beach Job Fair HOLIDAY INN LONG BEACH-AIRPORT (CONF CTR) 2640 Lakewood Blvd \, Long Beach \, CA 90815 Wednesday\, May 21\, 2008 Wednesday\, August 27\, 2008 Wednesday\, October 15\, 2008 Los Angeles Job Fair Holiday Inn Los Angeles-Intl. Airport 9901 La Cienega Blvd \, Los Angeles \, CA 90045 Wednesday\, July 23\, 2008 Thursday\, October 2\, 2008 Los Angeles Military Career Fair Holiday Inn LOS ANGELES-INTL AIRPORT 9901 La Cienega Blvd \, Los Angeles \, CA 90045 Thursday\, September 4\, 2008 Ontario Job Fair Doubletree Hotel Ontario Airport 222 North Vineyard Ave \, Ontario \, CA 91764 Monday\, May 19\, 2008 Thursday\, August 28\, 2008 Tuesday\, October 7\, 2008 Sacramento Job Fair Red Lion Hotel 1401 Arden Way \, Sacramento \, CA 95815 Monday\, July 14\, 2008 Tuesday\, September 16\, 2008 Wednesday\, November 12\, 2008 San Diego Job Fair Holiday Inn San Diego - On The Bay 1355 North Harbor Drive \, San Diego \, CA 92101 Thursday\, July 17\, 2008 Tuesday\, October 21\, 2008 San Francisco Military Career Fair Holiday Inn San Francisco Golden Gateway 1500 Van Ness Avenue \, San Francisco \, CA 94109 Tuesday\, May 13\, 2008 San Francisco Job Fair Holiday Inn San Francisco Golden Gateway 1500 Van Ness Avenue \, San Francisco \, CA 94109 Monday\, June 16\, 2008 Monday\, August 18\, 2008 Tuesday\, October 28\, 2008 San Jose Job Fair Techmart / Network Meeting Center 5201 Great America Pkwy \, Santa Clara \, CA 95054 Tuesday\, May 13\, 2008 Thursday\, November 6\, 2008 Walnut Creek Job Fair Hilton Concord Hotel 1970 Diamond Blvd \, Concord \, CA 94520 Monday\, May 19\, 2008 Monday\, September 8\, 2008 Monday\, November 3\, 2008 Woodland Hills Job Fair Hilton Woodland Hills 6360 Canoga Avenue \, Woodland Hills \, CA 91367 Tuesday\, August 12\, 2008 Wednesday\, November 5\, 2008 For more information call monica schug at 317-616-5047 or email monica.schug@monster.com
LOCATION:Various
UID:E903A6A8-2140-42EC-8681-0410AA406139
END:VEVENT
END:VCALENDAR